BEGIN:VCALENDAR
VERSION:2.0
PRODID:-//Calendar - ECPv4.4.4//NONSGML v1.0//EN
CALSCALE:GREGORIAN
METHOD:PUBLISH
X-WR-CALNAME:Calendar
X-ORIGINAL-URL:http://www.santosministries.org/calendar
X-WR-CALDESC:Events for Calendar
BEGIN:VEVENT
DTSTART;TZID=UTC+0:20170924T090000
DTEND;TZID=UTC+0:20170924T130000
DTSTAMP:20260422T074537
CREATED:20170628T140413Z
LAST-MODIFIED:20170628T140413Z
UID:176-1506243600-1506258000@www.santosministries.org
SUMMARY:St. Paul's United Methodist Church
DESCRIPTION:
URL:http://www.santosministries.org/calendar/event/st-pauls-united-methodist-church/
LOCATION:32827 Old Stage Road\, Laurel\, DE\, 19956\, United States
END:VEVENT
END:VCALENDAR